BEGIN:VCALENDAR
VERSION:2.0
PRODID: -//Idescat.cat//NONSGML IdesCal 1.0//EN
CALSCALE:GREGORIAN
METHOD:PUBLISH
BEGIN:VEVENT
UID:dif2024-pibcan120228858-1@idescat.cat
DTSTAMP:20260424T014451Z
DTSTART;VALUE=DATE:20241220
DURATION:P1D
SUMMARY:PIBC 2022 Cat.
DESCRIPTION:Territorial Gross Domestic Product 2022 (Idescat)
STATUS:CONFIRMED
TRANSP:TRANSPARENT
CLASS:PUBLIC
END:VEVENT
BEGIN:VEVENT
UID:dif2024-pibcani20238857-1@idescat.cat
DTSTAMP:20260424T014451Z
DTSTART;VALUE=DATE:20241220
DURATION:P1D
SUMMARY:PIBC 2023 Cat. (a)
DESCRIPTION:Territorial Gross Domestic Product. Municipalities of more than 50,000 inhabitants. Advance 2023 (Idescat)
STATUS:CONFIRMED
TRANSP:TRANSPARENT
CLASS:PUBLIC
END:VEVENT
END:VCALENDAR