BEGIN:VCALENDAR
VERSION:2.0
PRODID: -//Idescat.cat//NONSGML IdesCal 1.0//EN
CALSCALE:GREGORIAN
METHOD:PUBLISH
BEGIN:VEVENT
UID:dif2026-censphann20259988-1@idescat.cat
DTSTAMP:20260423T143330Z
DTSTART;VALUE=DATE:20260225
DURATION:P1D
SUMMARY:CENSPH 2025 Cat.
DESCRIPTION:Population and Housing Census. Foreign population 2025 (Idescat)
STATUS:CONFIRMED
TRANSP:TRANSPARENT
CLASS:PUBLIC
END:VEVENT
BEGIN:VEVENT
UID:dif2026-censphanj20259990-1@idescat.cat
DTSTAMP:20260423T143330Z
DTSTART;VALUE=DATE:20260225
DURATION:P1D
SUMMARY:CENSPH 2025 Cat.
DESCRIPTION:Population and Housing Census. Structure of the population 2025 (Idescat)
STATUS:CONFIRMED
TRANSP:TRANSPARENT
CLASS:PUBLIC
END:VEVENT
BEGIN:VEVENT
UID:dif2026-censphanp202510042-1@idescat.cat
DTSTAMP:20260423T143330Z
DTSTART;VALUE=DATE:20260227
DURATION:P1D
SUMMARY:CENSPH 2025 Cat.
DESCRIPTION:Population and Housing Census. Statistical Nomenclature of Population Entities 2025 (Idescat)
STATUS:CONFIRMED
TRANSP:TRANSPARENT
CLASS:PUBLIC
END:VEVENT
BEGIN:VEVENT
UID:dif2026-censphant2021-20256701-1@idescat.cat
DTSTAMP:20260423T143330Z
DTSTART;VALUE=DATE:20260302
DURATION:P1D
SUMMARY:CENSPH 2021-2025 Cat.
DESCRIPTION:Population and Housing Census. Basic Health Areas 2021-2025 (Idescat)
STATUS:CONFIRMED
TRANSP:TRANSPARENT
CLASS:PUBLIC
END:VEVENT
BEGIN:VEVENT
UID:dif2026-censphano20255995-1@idescat.cat
DTSTAMP:20260423T143330Z
DTSTART;VALUE=DATE:20260316
DURATION:P1D
SUMMARY:CENSPH 2025 Cat.
DESCRIPTION:Population and Housing Census. Georeferenced Population of Catalonia at January 1 2025 (Idescat)
STATUS:CONFIRMED
TRANSP:TRANSPARENT
CLASS:PUBLIC
END:VEVENT
END:VCALENDAR