BEGIN:VCALENDAR
VERSION:2.0
PRODID: -//Idescat.cat//NONSGML IdesCal 1.0//EN
CALSCALE:GREGORIAN
METHOD:PUBLISH
BEGIN:VEVENT
UID:dif2026-ievanc2020-20249979-1@idescat.cat
DTSTAMP:20260419T162422Z
DTSTART;VALUE=DATE:20260226
DURATION:P1D
SUMMARY:IEV 2020-2024 Cat.
DESCRIPTION:Life Table 2020-2024 (Idescat)
STATUS:CONFIRMED
TRANSP:TRANSPARENT
CLASS:PUBLIC
END:VEVENT
END:VCALENDAR