BEGIN:VCALENDAR
VERSION:2.0
PRODID: -//Idescat.cat//NONSGML IdesCal 1.0//EN
CALSCALE:GREGORIAN
METHOD:PUBLISH
BEGIN:VEVENT
UID:dif2026-rfdbcanc202310043-1@idescat.cat
DTSTAMP:20260419T161642Z
DTSTART;VALUE=DATE:20260429
DURATION:P1D
SUMMARY:RFDBC 2023 Cat.
DESCRIPTION:Territorial Gross Disposable Household Income 2023 (Idescat)
STATUS:CONFIRMED
TRANSP:TRANSPARENT
CLASS:PUBLIC
END:VEVENT
END:VCALENDAR