BEGIN:VCALENDAR
VERSION:2.0
PRODID: -//Idescat.cat//NONSGML IdesCal 1.0//EN
CALSCALE:GREGORIAN
METHOD:PUBLISH
BEGIN:VEVENT
UID:dif2026-ticlanc20259963-1@idescat.cat
DTSTAMP:20260423T143329Z
DTSTART;VALUE=DATE:20260130
DURATION:P1D
SUMMARY:TICL 2025 Cat.
DESCRIPTION:Survey on ICT Equipment and Use in Households 2025 (Idescat)
STATUS:CONFIRMED
TRANSP:TRANSPARENT
CLASS:PUBLIC
END:VEVENT
END:VCALENDAR