BEGIN:VCALENDAR
VERSION:2.0
PRODID: -//Idescat.cat//NONSGML IdesCal 1.0//EN
CALSCALE:GREGORIAN
METHOD:PUBLISH
BEGIN:VEVENT
UID:dif2026-tmeean02020-20249992-1@idescat.cat
DTSTAMP:20260419T124739Z
DTSTART;VALUE=DATE:20260219
DURATION:P1D
SUMMARY:TMEE 2020-2024 Cat.
DESCRIPTION:Standardised Death Rate 2020-2024 (Idescat)
STATUS:CONFIRMED
TRANSP:TRANSPARENT
CLASS:PUBLIC
END:VEVENT
END:VCALENDAR