BEGIN:VCALENDAR
VERSION:2.0
PRODID: -//Idescat.cat//NONSGML IdesCal 1.0//EN
CALSCALE:GREGORIAN
METHOD:PUBLISH
BEGIN:VEVENT
UID:dif2026-turdestmnc2025119550-1@idescat.cat
DTSTAMP:20260419T162424Z
DTSTART;VALUE=DATE:20260102
DURATION:P1D
SUMMARY:TURDEST 11/2025 Cat.
DESCRIPTION:Estadística del gasto del turismo extranjero 11/2025 (Idescat)
STATUS:CONFIRMED
TRANSP:TRANSPARENT
CLASS:PUBLIC
END:VEVENT
BEGIN:VEVENT
UID:dif2026-turdestmnc2025129580-1@idescat.cat
DTSTAMP:20260419T162424Z
DTSTART;VALUE=DATE:20260203
DURATION:P1D
SUMMARY:TURDEST 12/2025 Cat.
DESCRIPTION:Estadística del gasto del turismo extranjero 12/2025 (Idescat)
STATUS:CONFIRMED
TRANSP:TRANSPARENT
CLASS:PUBLIC
END:VEVENT
BEGIN:VEVENT
UID:dif2026-turdestapc20259974-1@idescat.cat
DTSTAMP:20260419T162424Z
DTSTART;VALUE=DATE:20260203
DURATION:P1D
SUMMARY:TURDEST 2025 Cat. (p)
DESCRIPTION:Estadística del gasto del turismo extranjero. Datos provisionales 2025 (Idescat)
STATUS:CONFIRMED
TRANSP:TRANSPARENT
CLASS:PUBLIC
END:VEVENT
BEGIN:VEVENT
UID:dif2026-turdestmnc2026019601-1@idescat.cat
DTSTAMP:20260419T162424Z
DTSTART;VALUE=DATE:20260304
DURATION:P1D
SUMMARY:TURDEST 01/2026 Cat.
DESCRIPTION:Estadística del gasto del turismo extranjero 01/2026 (Idescat)
STATUS:CONFIRMED
TRANSP:TRANSPARENT
CLASS:PUBLIC
END:VEVENT
BEGIN:VEVENT
UID:dif2026-turdestmnc2026029633-1@idescat.cat
DTSTAMP:20260419T162424Z
DTSTART;VALUE=DATE:20260401
DURATION:P1D
SUMMARY:TURDEST 02/2026 Cat.
DESCRIPTION:Estadística del gasto del turismo extranjero 02/2026 (Idescat)
STATUS:CONFIRMED
TRANSP:TRANSPARENT
CLASS:PUBLIC
END:VEVENT
BEGIN:VEVENT
UID:dif2026-turdestmnc2026039672-1@idescat.cat
DTSTAMP:20260419T162424Z
DTSTART;VALUE=DATE:20260505
DURATION:P1D
SUMMARY:TURDEST 03/2026 Cat.
DESCRIPTION:Estadística del gasto del turismo extranjero 03/2026 (Idescat)
STATUS:CONFIRMED
TRANSP:TRANSPARENT
CLASS:PUBLIC
END:VEVENT
BEGIN:VEVENT
UID:dif2026-turdestmnc2026049701-1@idescat.cat
DTSTAMP:20260419T162424Z
DTSTART;VALUE=DATE:20260602
DURATION:P1D
SUMMARY:TURDEST 04/2026 Cat.
DESCRIPTION:Estadística del gasto del turismo extranjero 04/2026 (Idescat)
STATUS:CONFIRMED
TRANSP:TRANSPARENT
CLASS:PUBLIC
END:VEVENT
BEGIN:VEVENT
UID:dif2026-turdestmnc2026059751-1@idescat.cat
DTSTAMP:20260419T162424Z
DTSTART;VALUE=DATE:20260702
DURATION:P1D
SUMMARY:TURDEST 05/2026 Cat.
DESCRIPTION:Estadística del gasto del turismo extranjero 05/2026 (Idescat)
STATUS:CONFIRMED
TRANSP:TRANSPARENT
CLASS:PUBLIC
END:VEVENT
BEGIN:VEVENT
UID:dif2026-turdestmnc2026069792-1@idescat.cat
DTSTAMP:20260419T162424Z
DTSTART;VALUE=DATE:20260803
DURATION:P1D
SUMMARY:TURDEST 06/2026 Cat.
DESCRIPTION:Estadística del gasto del turismo extranjero 06/2026 (Idescat)
STATUS:CONFIRMED
TRANSP:TRANSPARENT
CLASS:PUBLIC
END:VEVENT
BEGIN:VEVENT
UID:dif2026-turdestmnc2026079814-1@idescat.cat
DTSTAMP:20260419T162424Z
DTSTART;VALUE=DATE:20260901
DURATION:P1D
SUMMARY:TURDEST 07/2026 Cat.
DESCRIPTION:Estadística del gasto del turismo extranjero 07/2026 (Idescat)
STATUS:CONFIRMED
TRANSP:TRANSPARENT
CLASS:PUBLIC
END:VEVENT
BEGIN:VEVENT
UID:dif2026-turdestmnc2026089849-1@idescat.cat
DTSTAMP:20260419T162424Z
DTSTART;VALUE=DATE:20261002
DURATION:P1D
SUMMARY:TURDEST 08/2026 Cat.
DESCRIPTION:Estadística del gasto del turismo extranjero 08/2026 (Idescat)
STATUS:CONFIRMED
TRANSP:TRANSPARENT
CLASS:PUBLIC
END:VEVENT
BEGIN:VEVENT
UID:dif2026-turdestmnc2026099884-1@idescat.cat
DTSTAMP:20260419T162424Z
DTSTART;VALUE=DATE:20261104
DURATION:P1D
SUMMARY:TURDEST 09/2026 Cat.
DESCRIPTION:Estadística del gasto del turismo extranjero 09/2026 (Idescat)
STATUS:CONFIRMED
TRANSP:TRANSPARENT
CLASS:PUBLIC
END:VEVENT
BEGIN:VEVENT
UID:dif2026-turdestmnc2026109916-1@idescat.cat
DTSTAMP:20260419T162424Z
DTSTART;VALUE=DATE:20261202
DURATION:P1D
SUMMARY:TURDEST 10/2026 Cat.
DESCRIPTION:Estadística del gasto del turismo extranjero 10/2026 (Idescat)
STATUS:CONFIRMED
TRANSP:TRANSPARENT
CLASS:PUBLIC
END:VEVENT
END:VCALENDAR